BEGIN:VCALENDAR
VERSION:2.0
PRODID:-//DBIA NYC Metro Region - ECPv6.15.20//NONSGML v1.0//EN
CALSCALE:GREGORIAN
METHOD:PUBLISH
X-ORIGINAL-URL:https://dbianycmetro.org
X-WR-CALDESC:Events for DBIA NYC Metro Region
REFRESH-INTERVAL;VALUE=DURATION:PT1H
X-Robots-Tag:noindex
X-PUBLISHED-TTL:PT1H
BEGIN:VTIMEZONE
TZID:America/New_York
BEGIN:DAYLIGHT
TZOFFSETFROM:-0500
TZOFFSETTO:-0400
TZNAME:EDT
DTSTART:20240310T070000
END:DAYLIGHT
BEGIN:STANDARD
TZOFFSETFROM:-0400
TZOFFSETTO:-0500
TZNAME:EST
DTSTART:20241103T060000
END:STANDARD
BEGIN:DAYLIGHT
TZOFFSETFROM:-0500
TZOFFSETTO:-0400
TZNAME:EDT
DTSTART:20250309T070000
END:DAYLIGHT
BEGIN:STANDARD
TZOFFSETFROM:-0400
TZOFFSETTO:-0500
TZNAME:EST
DTSTART:20251102T060000
END:STANDARD
BEGIN:DAYLIGHT
TZOFFSETFROM:-0500
TZOFFSETTO:-0400
TZNAME:EDT
DTSTART:20260308T070000
END:DAYLIGHT
BEGIN:STANDARD
TZOFFSETFROM:-0400
TZOFFSETTO:-0500
TZNAME:EST
DTSTART:20261101T060000
END:STANDARD
END:VTIMEZONE
BEGIN:VEVENT
DTSTART;TZID=America/New_York:20250509T120000
DTEND;TZID=America/New_York:20250509T130000
DTSTAMP:20260423T161030
CREATED:20250425T154657Z
LAST-MODIFIED:20250425T161152Z
UID:765-1746792000-1746795600@dbianycmetro.org
SUMMARY:Friday Forum: May 9th – Get Started in Design-Build for Vertical Projects
DESCRIPTION:Please join DBIA New England Region virtually on Zoom for the Friday Forum session series: Getting Started in Design-Build. \nGet Started in Design-Build for Vertical Projects\nPresented by:\nGene Torone\, SLAM Collaborative\, President Construction Services\nRod Shaffert\, Bowdoin Construction\, Vice President / Project Executive \nModerated by: Joanne Linowes\, Linowes Executive Development Institute \nRegister Now
URL:https://dbianycmetro.org/event/friday-forum-may-9th-get-started-in-design-build-for-vertical-projects/
LOCATION:NY
CATEGORIES:Region Event
END:VEVENT
BEGIN:VEVENT
DTSTART;TZID=America/New_York:20250515T173000
DTEND;TZID=America/New_York:20250515T193000
DTSTAMP:20260423T161030
CREATED:20250425T155238Z
LAST-MODIFIED:20250425T155624Z
UID:774-1747330200-1747337400@dbianycmetro.org
SUMMARY:I-495/I-90 Interchange Improvements Project – Navigating MassDOT’s Largest Design Build Procurement
DESCRIPTION:Join us to hear fascinating details\, lessons learned\, and best practices from our guest speakers! \nThis is an exclusive event tailored for consultants\, contractors\, and agency owners focused on groundbreaking alternative delivery projects. \nThis design-build initiative aims to revolutionize the interchange of I-495 and I-90\, enhancing safety and efficiency for over 200\,000 daily vehicles\, including a significant portion of Massachusetts’ trucking traffic. \nDiscover how design-build partners Barletta Heavy Division\, O&G\, and Aetna Bridge Company\, alongside VHB\, is transforming this critical infrastructure. With design work nearing completion\, the project is shifting towards an intensive construction phase\, set to continue through 2027. Learn about the innovative solutions implemented to address the interchange’s previous bottlenecks and high crash rates\, and how the new configuration will streamline traffic flow\, reduce congestion\, and improve safety. \nWe are also excited to announce that MassDOT will be present to support DBIA New England Membership with announcements\, sharing valuable insights into the design-build process. This is a unique opportunity to understand the intricacies of delivering large-scale projects through design-build and to engage directly with the experts driving these initiatives. \nAgenda\n5:30pm Opening Remarks: Paul Tyrell\, PE\, DBIA NE Vice President\, HDR\n5:40pm Announcements from Jonathan Gulliver\, MassDOT Highway Administrator\n6:00pm Panel Moderator: Rod Shaffert\, DBIA Treasurer\, Bowdoin Construction \nGuest Speakers: \n\nMark Shamp\, Barletta Heavy Division\nDonald Cooke\, PE PTOE\, VHB Regional Service Lead\, Transportation\nJosh Cone-Roddy\, PE\, VHB Senior Project Engineer\n\n6:45pm Questions and Answers\n7:15pm DBIA Events Update: Kristine Gorman\, DBIA NE Events Committee Chair\, Vice President\, Parsons Transportation Group \nRegister
URL:https://dbianycmetro.org/event/i-495-i-90-interchange-improvements-project-navigating-massdots-largest-design-build-procurement/
LOCATION:DoubleTree By Hilton Hotel Boston/Westborough\, 5400 Computer Drive\, Westborough\, MA\, 01581\, United States
CATEGORIES:Region Event
END:VEVENT
BEGIN:VEVENT
DTSTART;TZID=America/New_York:20250521T133000
DTEND;TZID=America/New_York:20250521T143000
DTSTAMP:20260423T161030
CREATED:20250519T165250Z
LAST-MODIFIED:20250519T165250Z
UID:837-1747834200-1747837800@dbianycmetro.org
SUMMARY:Understanding Design-Build & Progressive Design-Build in New York Webinars - Session 1
DESCRIPTION:New York’s construction and infrastructure industry is evolving\, and design-build and progressive design-build are playing critical roles in shaping the evolution and success of projects. Are you looking to enhance your understanding of design-build and progressive design-build delivery models and contracts? Join us for two insightful webinars\, each dedicated to exploring one of these project delivery methods\, with a focus on unique New York market dynamics and risk management strategies. \nSession 1: Understanding Design-Build in New York\nWe will discuss the fundamentals of design-build\, how it streamlines project delivery\, and why it’s gaining traction across New York. Attendees will walk away with a better understanding of key factors to consider when deciding to participate in design-build projects. \nSession 2: Understanding Progressive Design-Build in New York\nDive deeper into progressive design-build\, a more collaborative and flexible approach that is gaining momentum nationally and in New York. Discover how it differs from traditional design-build\, its advantages\, and strategies for successful implementation. Attendees will gain a better understanding of best practices for navigating project development and setting or validating the final contract price. \nThese webinars are a great opportunity to deepen your understanding of design-build and progressive design-build and gain New York-specific insights. When you register\, you’ll have the opportunity to submit questions or topics you’d like to see addressed during the webinars\, as well as select the sessions you are interested in attending. Register now to expand your knowledge and gain practical takeaways for your projects! \nSeries Schedule\nAll times in Eastern time \nWednesday\, May 21\, 2025\n1:30-2:30 PM ET\nUnderstanding Design-Build in New York \nThursday\, June 5\, 2025\n11:00 AM-12:00 PM ET\nUnderstanding Progressive Design-Build in New York \nRegister Now
URL:https://dbianycmetro.org/event/understanding-design-build-progressive-design-build-in-new-york-webinars-session-1/
LOCATION:Webinar
CATEGORIES:Region Event
END:VEVENT
BEGIN:VEVENT
DTSTART;TZID=America/New_York:20250521T173000
DTEND;TZID=America/New_York:20250521T173000
DTSTAMP:20260423T161030
CREATED:20250425T155611Z
LAST-MODIFIED:20250425T155611Z
UID:776-1747848600-1747848600@dbianycmetro.org
SUMMARY:DBIA New England Networking Event with the Worcester Red Sox at Polar Park
DESCRIPTION:Join us for an exclusive networking event hosted by DBIA New England for a thrilling WooSox game! This is a prime opportunity to connect with industry leaders and peers in a relaxed and fun setting. \nEvent Highlights:\n\nReconnect and Meet: Catch up with old friends and make new connections.\nNetworking Reception: Kick off the evening at 5:30 PM at the Shaw’s Hometown Bullpen Terrace.\nExclusive Space: Enjoy our private area with a fantastic view of the game.\nDinner Buffet: Savor a traditional ballpark dinner buffet.\nBeverages: A cash bar and soft drinks will be available.\n\nDon’t miss this chance to mingle with fellow professionals and enjoy a night of baseball and camaraderie. We look forward to seeing you there! \nRegister\n  \nDate: Wednesday\, May 21\, 2025\nLocation: Polar Park\, 100 Madison St. Worcester\, MA 01608
URL:https://dbianycmetro.org/event/dbia-new-england-networking-event-with-the-worcester-red-sox-at-polar-park/
LOCATION:Polar Park\, 100 Madison St.\, Worcester\, MA\, 01608\, United States
CATEGORIES:Region Event
END:VEVENT
BEGIN:VEVENT
DTSTART;TZID=America/New_York:20250530T080000
DTEND;TZID=America/New_York:20250530T170000
DTSTAMP:20260423T161030
CREATED:20250505T154244Z
LAST-MODIFIED:20250505T154244Z
UID:787-1748592000-1748624400@dbianycmetro.org
SUMMARY:DBIA Maryland Chapter Golf Tournament
DESCRIPTION:Join our DBIA Mid-Atlantic Maryland Chapter for their Golf Tournament in Elkridge\, Maryland! \nCoffee\, Donuts\, Cookout Lunch\, & Raffle Prizes provided! \nDate: Friday\, May 30\, 2025\nTime: 8:30am Shotgun Start \nGolfer Pricing:\nIndividual (Before 5/1/25) – $175\nFoursome (Before 5/1/25) – $680 \nRegister
URL:https://dbianycmetro.org/event/dbia-maryland-chapter-golf-tournament/
LOCATION:The Timbers at Troy\, 6100 Marshalee Drive\, Elkridge\, MD\, 21075\, United States
CATEGORIES:Region Event
END:VEVENT
BEGIN:VEVENT
DTSTART;TZID=America/New_York:20250530T120000
DTEND;TZID=America/New_York:20250530T120000
DTSTAMP:20260423T161030
CREATED:20250425T160256Z
LAST-MODIFIED:20250513T141216Z
UID:780-1748606400-1748606400@dbianycmetro.org
SUMMARY:Friday Forum: May 30th – Get Started in Design-Build for Horizontal Projects
DESCRIPTION:Please join DBIA – NE Friday Forum session 6 of the 7-part series: Getting Started in Design-Build. \nFriday\, May 30th\, 2025\, Noon on Zoom \nGet Started in Design-Build for Horizontal Projects \nPresented by: Kristine Gorman\, Parsons Corporation\, Vice President \nModerated by: Joanne Linowes\, Linowes Executive Development Institute \nRegister
URL:https://dbianycmetro.org/event/friday-forum-may-30th-get-started-in-design-build-for-horizontal-projects/
LOCATION:Virtual Meeting via Zoom
CATEGORIES:Region Event
END:VEVENT
END:VCALENDAR