BEGIN:VCALENDAR
VERSION:2.0
PRODID:-//DBIA NYC Metro Region - ECPv6.15.20//NONSGML v1.0//EN
CALSCALE:GREGORIAN
METHOD:PUBLISH
X-WR-CALNAME:DBIA NYC Metro Region
X-ORIGINAL-URL:https://dbianycmetro.org
X-WR-CALDESC:Events for DBIA NYC Metro Region
REFRESH-INTERVAL;VALUE=DURATION:PT1H
X-Robots-Tag:noindex
X-PUBLISHED-TTL:PT1H
BEGIN:VTIMEZONE
TZID:America/New_York
BEGIN:DAYLIGHT
TZOFFSETFROM:-0500
TZOFFSETTO:-0400
TZNAME:EDT
DTSTART:20250309T070000
END:DAYLIGHT
BEGIN:STANDARD
TZOFFSETFROM:-0400
TZOFFSETTO:-0500
TZNAME:EST
DTSTART:20251102T060000
END:STANDARD
BEGIN:DAYLIGHT
TZOFFSETFROM:-0500
TZOFFSETTO:-0400
TZNAME:EDT
DTSTART:20260308T070000
END:DAYLIGHT
BEGIN:STANDARD
TZOFFSETFROM:-0400
TZOFFSETTO:-0500
TZNAME:EST
DTSTART:20261101T060000
END:STANDARD
BEGIN:DAYLIGHT
TZOFFSETFROM:-0500
TZOFFSETTO:-0400
TZNAME:EDT
DTSTART:20270314T070000
END:DAYLIGHT
BEGIN:STANDARD
TZOFFSETFROM:-0400
TZOFFSETTO:-0500
TZNAME:EST
DTSTART:20271107T060000
END:STANDARD
END:VTIMEZONE
BEGIN:VEVENT
DTSTART;TZID=America/New_York:20260311T160000
DTEND;TZID=America/New_York:20260311T180000
DTSTAMP:20260420T112918
CREATED:20251216T205736Z
LAST-MODIFIED:20260303T165202Z
UID:1393-1773244800-1773252000@dbianycmetro.org
SUMMARY:First-of-a-Kind: PANYNJ Leverages Unique Investigate-Design-Build Delivery to Restore Salt Damage at World Trade Center
DESCRIPTION:During construction of the new World Trade Center (WTC) in 2012\, Hurricane Sandy inundated the worksite with 200M gallons of brackish water. The water was rapidly removed\, but the salt remained embedded\, causing damage across the iconic structure’s first decade of service life. The saltwater caused corrosion and service life reduction along the lowest levels of WTC approximately 70 feet below grade. \nBeginning in 2021\, the Port Authority of New York New Jersey (PANYNJ) embarked on a multi-year project aimed at remediating the damage and restoring structural capacity for WTC’s intended 100-year service life.  Based upon the varied extent-of-damage conditions which drove the need for extensive investigation as a first step\, PANYNJ’s desire for cost certainty and need to manage schedule constraints in a complex working environment\, design-build delivery was selected. \nFour Learning Objectives: \n\nDiscover the Owner’s evaluation of delivery methods process\, and analyze the decision criteria for use of design-build using the WTC project for reference\nTranslate PANYNJ’s extensive experience related to Design-Build for new construction of world class facilities into how to effectively manage and deliver Design-Build for rehabilitation projects\nAssess the risks presented on repair projects and how they are managed through strategic use of contingencies and allowances\, specifically for portions of scope that have variable quantities and potential scope changes based on variability or as-found conditions.\nAcquire knowledge regarding the benefits of Design-Build delivery to develop solutions and execute repair and restoration of existing structures.\n\nParticipants will be eligible for 1.5 DBIA credits. \n________________________________________________________________________________________________ \nRegistration Now\nAbout our Presenters \n \nJeff Binder\, DBIA | Director of Preconstruction\, Structural \nJeff Binder is Director of Preconstruction for STRUCTURAL with over 17 years of experience in the repair and restoration of concrete structures. After spending the first 16 years of his career in an operations role\, he has a strong aptitude for solving logistical challenges that are inherent in the Design Build approach. \n  \n  \n \nShana Holberton\, LEED AP\, ENV SP |  Program Manager\, Major Capital Projects\, The Port Authority of New York & New Jersey \nShana Holberton is a Program Manager at the Port Authority of New York & New Jersey with 15 years of experience supporting projects across New York City’s evolving built environment. With a focus on climate resilience and sustainability\, she supports the planning and delivery of complex transportation and building infrastructure projects for public agencies. Her work includes overseeing World Trade Center Campus climate resilience programs as well as broader capital program efforts aligned with net-zero and long-term adaptation goals. \n  \n  \n \nNavid Safaie\, PE | Senior Project Manager\, Dewberry \nNavid Safaie is a Senior Project Manager at Dewberry Engineers\, having over 9 years of industry experience with a particular emphasis on rehabilitation of existing concrete and steel structures. He has successfully completed projects working for both private clients and government agencies under various project delivery formats and has developed an analytical and systematic approach to working through constraints and challenges in rehabilitation and Design-Build. \n  \n  \n \nDennis Sanschagrin Assoc DBIA | Sr Vice President\, Pullman \nDennis Sanschagrin is a Senior Vice President for PULLMAN. He has over 30 years of experience in the repair and restoration of existing structures\, including corrosion mitigation\, structural strengthening\, post tension repair and façade restoration. Dennis assists all types of commercial and municipal owners with their design-build projects around the country. He has experience teaching integrated product delivery systems and how to procure them to small groups of owners at their facilities as well as presentations for larger groups at association meetings. Dennis has a BS in Civil Engineering from the University of Maryland and an MBA from George Mason University and is a designated Design Build Professional with DBIA. \n  \nIsaac Pitre\, P. Eng.\, PMP\, DBIA\, is Division Manager\, STRUCTURAL \nIsaac Pitre\, P. Eng.\, PMP\, DBIA\, is Division Manager at STRUCTURAL\, specializing in concrete restoration projects of small and large scale. He has successfully delivered bid-build & design-build work across both United-States & Canada\, and is known for fostering high-performing\, cross-functional teams. Isaac believes diverse perspectives are essential to delivering better project outcomes and actively works to cultivate them.
URL:https://dbianycmetro.org/event/first-of-a-kind-panynj-leverages-unique-investigate-design-build-delivery-to-restore-salt-damage-at-world-trade-center/
LOCATION:Arcadis of New York\, Inc. (The Woolworth Building)\, 233 Broadway\, 16th Floor\, New York\, NY\, 10279\, United States
CATEGORIES:Region Event
END:VEVENT
BEGIN:VEVENT
DTSTART;TZID=America/New_York:20260323T173000
DTEND;TZID=America/New_York:20260323T203000
DTSTAMP:20260420T112918
CREATED:20251209T210846Z
LAST-MODIFIED:20260320T191638Z
UID:1386-1774287000-1774297800@dbianycmetro.org
SUMMARY:Alternative Delivery Method Selection a CMAA & DBIA Collaborative Discourse
DESCRIPTION:Monday\, March 23\, 2026\nJoin the DBIA NYC Metro Region and CMAA NYC for a dynamic panel discussion on Alternative Delivery Method selection. Gain exclusive insights and strategies from a diverse group of industry-leading Owner-Clients and Owner-Representatives. \nWe will be covering the following: \n\nAlternative Delivery Methods\nADM selection decision drivers\, and key differentiators\nADM Procurement Strategies:\n\n\n\nQualifications based selection\nBest Value\nLowest Cost – Responsive Bidder\n\n\n\n\nCultural challenges – mastering team integration\nImportance of Professional Credentialing\n\nEvent Agenda:\n5:30PM – 6:30PM – Reception & Networking / Open Bar\n6:30PM – 6:45PM – Introductions & Buffet Dinner Served\n6:45PM – 8:15PM – Program & Panel Discussions\n8:15PM – 8:30PM – Closing Comments and Q&A \nPlease Note: Dinner will be served at this event. \nContinuing Education:\nAttendees will be eligible for 1.5 DBIA CEHs & AIA LU. \nRegister Now\nBecome a Sponsor                                                                           ___________________________________________________________\nMeet Our Panelists  \n Thomas Foley\, PE\, CCM\, DBIA – Senior Vice President for Facilities – Mount Sinai Health System  \nThomas Foley is a Senior Vice President at Mount Sinai Health System and is responsible for planning\, design\, and construction of facilities across the Health System. He leads the development of major land assets and the redesign of existing campuses in alignment with system priorities\, as well as space management across the system.   \nTom is a licensed Professional Engineer\, a certified Construction Manager\, a National Board member at the Design Build Institute of America and was recently inducted into the National Academy of Construction. He was previously Commissioner of NYC’s Department of Design and Construction.   \n  \nSara Appleton Director\, Penn Station Transformation – AMTRAK  \nSara Appleton is an urban development and transportation strategist passionate about delivering public infrastructure and services that improve life in New York City. Sara currently leads Amtrak’s multibillion-dollar Penn Station Transformation program\, a landmark initiative to modernize the critical transportation hub and improve regional connectivity. Prior to Amtrak\, Sara led consultant teams at McKinsey & Company\, advising senior government leaders on strategic planning\, asset management\, and operational efficiency\, and has worked for multiple NYC mayoral administrations\, including at the NYC Economic Development Corporation. Sara earned her M.B.A. from Harvard Business School and B.A. from Georgetown University. A native New Yorker\, she lives in Manhattan with her husband.  \n  \nGianpiero Carovillano\, PE -The Port Authority of New York and New Jersey  \nGianpiero Carovillano\, P.E. is an Engineer of Construction for JFK International Airport at The Port Authority of New York and New Jersey and is currently overseeing the $1.2 Billion Roadways\, Utilities and Ground Transportation Center Design Build project\, among other supporting infrastructure projects\, on behalf of the Port Authority.  \nGianpiero’s 13-year journey with the Port Authority began in 2013 as part of the Engineering and Architecture Associates program and began his career at the George Washington Bridge working on various state of good repair projects followed by the Suspender Ropes Replacement project and the 178th/179th Street Rehabilitation and Pedestrian walkway projects as part of the Restore the George Program. Since 2020\, Gianpiero has been at JFK International Airport focused on delivering various infrastructure projects for the JFK Redevelopment Program.  \n  \nMeet Our Moderators:   \nPeter Caravousanos RA\, CCM\, DBIA\, PMP\, LEEDap Owner Advisory | Program/Project Delivery – Jacobs  \nPeter Caravousanos\, RA\, CCM\, DBIA\, PMP\, LEED AP\, is a distinguished project delivery expert with over 30 years of experience in design and construction management. At Jacobs\, he led a major program for NYC as Executive Program Manager. Since the early-1990s\, he managed Design-Led-Design-Build projects for prominent clients including Hearst Communications\, Crain’s Communications and Financial Times. Peter led the planning and delivery of highly sensitive projects for the U.S. Department of Energy\, Department of Defense and NASA\, employing Agile and iterative DB approaches. Peter taught PM/CM courses at SUNY Farmingdale and Baruch College and served on several professional advisory boards.  \n  \nNick Dandolos\, CCM\, DBIA\, PMP\, ENV SP Senior Vice President\, Construction Management Area Manager\, New York – GFT Inc.  \nNick Dandolos\, CCM\, DBIA\, PMP\, ENV SP brings four decades of experience in the AEC industry. He currently serves as a Senior Vice President and the New York Area Manager in GFT’s construction services business line. In this role\, he serves as a project executive for key clients and leverages his deep knowledge of the New York metropolitan area’s construction market to grow the firm’s construction services. His experience encompasses program\, construction\, and design management\, including projects executed through alternative delivery methods such as construction manager/design-build\, design-build and progressive design-build. Nick’s projects include work for private clients and publicly-funded work for local\, state\, and federal governments. He has remained a trusted partner to NYC agencies through his involvement in large-scale building improvement projects for the New York City School Construction Authority\, New York City Housing Authority\, and New York City Department of Design and Construction.    \n________________________________________________________________________________________________
URL:https://dbianycmetro.org/event/alternative-delivery-method-selection-a-cmaa-dbia-collaborative-discourse/
LOCATION:Club 101\, 101 Park Ave.\, New York\, 10178\, United States
CATEGORIES:Region Event
END:VEVENT
END:VCALENDAR