BEGIN:VCALENDAR
VERSION:2.0
PRODID:-//DBIA NYC Metro Region - ECPv6.15.20//NONSGML v1.0//EN
CALSCALE:GREGORIAN
METHOD:PUBLISH
X-WR-CALNAME:DBIA NYC Metro Region
X-ORIGINAL-URL:https://dbianycmetro.org
X-WR-CALDESC:Events for DBIA NYC Metro Region
REFRESH-INTERVAL;VALUE=DURATION:PT1H
X-Robots-Tag:noindex
X-PUBLISHED-TTL:PT1H
BEGIN:VTIMEZONE
TZID:America/New_York
BEGIN:DAYLIGHT
TZOFFSETFROM:-0500
TZOFFSETTO:-0400
TZNAME:EDT
DTSTART:20240310T070000
END:DAYLIGHT
BEGIN:STANDARD
TZOFFSETFROM:-0400
TZOFFSETTO:-0500
TZNAME:EST
DTSTART:20241103T060000
END:STANDARD
BEGIN:DAYLIGHT
TZOFFSETFROM:-0500
TZOFFSETTO:-0400
TZNAME:EDT
DTSTART:20250309T070000
END:DAYLIGHT
BEGIN:STANDARD
TZOFFSETFROM:-0400
TZOFFSETTO:-0500
TZNAME:EST
DTSTART:20251102T060000
END:STANDARD
BEGIN:DAYLIGHT
TZOFFSETFROM:-0500
TZOFFSETTO:-0400
TZNAME:EDT
DTSTART:20260308T070000
END:DAYLIGHT
BEGIN:STANDARD
TZOFFSETFROM:-0400
TZOFFSETTO:-0500
TZNAME:EST
DTSTART:20261101T060000
END:STANDARD
END:VTIMEZONE
BEGIN:VEVENT
DTSTART;TZID=America/New_York:20250424T173000
DTEND;TZID=America/New_York:20250424T190000
DTSTAMP:20260423T190210
CREATED:20250418T200222Z
LAST-MODIFIED:20250418T201057Z
UID:758-1745515800-1745521200@dbianycmetro.org
SUMMARY:DBIA New England and the Association for Facilities Engineers Joint Event:  Tour the Award-Winning Milton CAT Facility in Stoughton\, MA
DESCRIPTION:Tour the Award-Winning Milton CAT Facility in Stoughton\, MA immediately followed by networking\, discussion\, and dinner in the Tuscany Room at the Chateau Restaurant located right down the street at 1165 Park St\, Stoughton\, MA 02072. \nWhy should our industry tour the award-winning Milton CAT facility in Stoughton\, MA?\nTo gain valuable insights into successfully executing a complex project join us to tour this 45\,000 square foot facility which serves the South Shore with machine sales\, service\, and parts distribution. Bowdoin Construction\, chosen for their accountability and excellence\, managed significant site preparation\, merging two lots into a 7-acre site\, and installing essential utilities. The sitework includes new parking areas and landscaping. The facility’s flexible design features a warehouse\, service bays\, sales and parts departments\, office\, retail\, and support spaces\, along with outside covered storage and a loading dock. Prioritizing customer experience\, the design is based on regional market research. Touring this facility offers our industry a unique opportunity to see innovative solutions in site preparation\, design flexibility\, and customer-centric architecture. \nLearn More and Register Now
URL:https://dbianycmetro.org/event/dbia-new-england-and-the-association-for-facilities-engineers-joint-event-tour-the-award-winning-milton-cat-facility-in-stoughton-ma/
LOCATION:NY
CATEGORIES:Region Event
END:VEVENT
END:VCALENDAR