BEGIN:VCALENDAR
VERSION:2.0
PRODID:-//DBIA NYC Metro Region - ECPv6.15.20//NONSGML v1.0//EN
CALSCALE:GREGORIAN
METHOD:PUBLISH
X-ORIGINAL-URL:https://dbianycmetro.org
X-WR-CALDESC:Events for DBIA NYC Metro Region
REFRESH-INTERVAL;VALUE=DURATION:PT1H
X-Robots-Tag:noindex
X-PUBLISHED-TTL:PT1H
BEGIN:VTIMEZONE
TZID:America/New_York
BEGIN:DAYLIGHT
TZOFFSETFROM:-0500
TZOFFSETTO:-0400
TZNAME:EDT
DTSTART:20240310T070000
END:DAYLIGHT
BEGIN:STANDARD
TZOFFSETFROM:-0400
TZOFFSETTO:-0500
TZNAME:EST
DTSTART:20241103T060000
END:STANDARD
BEGIN:DAYLIGHT
TZOFFSETFROM:-0500
TZOFFSETTO:-0400
TZNAME:EDT
DTSTART:20250309T070000
END:DAYLIGHT
BEGIN:STANDARD
TZOFFSETFROM:-0400
TZOFFSETTO:-0500
TZNAME:EST
DTSTART:20251102T060000
END:STANDARD
BEGIN:DAYLIGHT
TZOFFSETFROM:-0500
TZOFFSETTO:-0400
TZNAME:EDT
DTSTART:20260308T070000
END:DAYLIGHT
BEGIN:STANDARD
TZOFFSETFROM:-0400
TZOFFSETTO:-0500
TZNAME:EST
DTSTART:20261101T060000
END:STANDARD
END:VTIMEZONE
BEGIN:VEVENT
DTSTART;TZID=America/New_York:20250521T133000
DTEND;TZID=America/New_York:20250521T143000
DTSTAMP:20260423T174525
CREATED:20250519T165250Z
LAST-MODIFIED:20250519T165250Z
UID:837-1747834200-1747837800@dbianycmetro.org
SUMMARY:Understanding Design-Build & Progressive Design-Build in New York Webinars - Session 1
DESCRIPTION:New York’s construction and infrastructure industry is evolving\, and design-build and progressive design-build are playing critical roles in shaping the evolution and success of projects. Are you looking to enhance your understanding of design-build and progressive design-build delivery models and contracts? Join us for two insightful webinars\, each dedicated to exploring one of these project delivery methods\, with a focus on unique New York market dynamics and risk management strategies. \nSession 1: Understanding Design-Build in New York\nWe will discuss the fundamentals of design-build\, how it streamlines project delivery\, and why it’s gaining traction across New York. Attendees will walk away with a better understanding of key factors to consider when deciding to participate in design-build projects. \nSession 2: Understanding Progressive Design-Build in New York\nDive deeper into progressive design-build\, a more collaborative and flexible approach that is gaining momentum nationally and in New York. Discover how it differs from traditional design-build\, its advantages\, and strategies for successful implementation. Attendees will gain a better understanding of best practices for navigating project development and setting or validating the final contract price. \nThese webinars are a great opportunity to deepen your understanding of design-build and progressive design-build and gain New York-specific insights. When you register\, you’ll have the opportunity to submit questions or topics you’d like to see addressed during the webinars\, as well as select the sessions you are interested in attending. Register now to expand your knowledge and gain practical takeaways for your projects! \nSeries Schedule\nAll times in Eastern time \nWednesday\, May 21\, 2025\n1:30-2:30 PM ET\nUnderstanding Design-Build in New York \nThursday\, June 5\, 2025\n11:00 AM-12:00 PM ET\nUnderstanding Progressive Design-Build in New York \nRegister Now
URL:https://dbianycmetro.org/event/understanding-design-build-progressive-design-build-in-new-york-webinars-session-1/
LOCATION:Webinar
CATEGORIES:Region Event
END:VEVENT
BEGIN:VEVENT
DTSTART;TZID=America/New_York:20250521T173000
DTEND;TZID=America/New_York:20250521T173000
DTSTAMP:20260423T174525
CREATED:20250425T155611Z
LAST-MODIFIED:20250425T155611Z
UID:776-1747848600-1747848600@dbianycmetro.org
SUMMARY:DBIA New England Networking Event with the Worcester Red Sox at Polar Park
DESCRIPTION:Join us for an exclusive networking event hosted by DBIA New England for a thrilling WooSox game! This is a prime opportunity to connect with industry leaders and peers in a relaxed and fun setting. \nEvent Highlights:\n\nReconnect and Meet: Catch up with old friends and make new connections.\nNetworking Reception: Kick off the evening at 5:30 PM at the Shaw’s Hometown Bullpen Terrace.\nExclusive Space: Enjoy our private area with a fantastic view of the game.\nDinner Buffet: Savor a traditional ballpark dinner buffet.\nBeverages: A cash bar and soft drinks will be available.\n\nDon’t miss this chance to mingle with fellow professionals and enjoy a night of baseball and camaraderie. We look forward to seeing you there! \nRegister\n  \nDate: Wednesday\, May 21\, 2025\nLocation: Polar Park\, 100 Madison St. Worcester\, MA 01608
URL:https://dbianycmetro.org/event/dbia-new-england-networking-event-with-the-worcester-red-sox-at-polar-park/
LOCATION:Polar Park\, 100 Madison St.\, Worcester\, MA\, 01608\, United States
CATEGORIES:Region Event
END:VEVENT
END:VCALENDAR