BEGIN:VCALENDAR
VERSION:2.0
PRODID:-//DBIA NYC Metro Region - ECPv6.15.20//NONSGML v1.0//EN
CALSCALE:GREGORIAN
METHOD:PUBLISH
X-WR-CALNAME:DBIA NYC Metro Region
X-ORIGINAL-URL:https://dbianycmetro.org
X-WR-CALDESC:Events for DBIA NYC Metro Region
REFRESH-INTERVAL;VALUE=DURATION:PT1H
X-Robots-Tag:noindex
X-PUBLISHED-TTL:PT1H
BEGIN:VTIMEZONE
TZID:America/New_York
BEGIN:DAYLIGHT
TZOFFSETFROM:-0500
TZOFFSETTO:-0400
TZNAME:EDT
DTSTART:20240310T070000
END:DAYLIGHT
BEGIN:STANDARD
TZOFFSETFROM:-0400
TZOFFSETTO:-0500
TZNAME:EST
DTSTART:20241103T060000
END:STANDARD
BEGIN:DAYLIGHT
TZOFFSETFROM:-0500
TZOFFSETTO:-0400
TZNAME:EDT
DTSTART:20250309T070000
END:DAYLIGHT
BEGIN:STANDARD
TZOFFSETFROM:-0400
TZOFFSETTO:-0500
TZNAME:EST
DTSTART:20251102T060000
END:STANDARD
BEGIN:DAYLIGHT
TZOFFSETFROM:-0500
TZOFFSETTO:-0400
TZNAME:EDT
DTSTART:20260308T070000
END:DAYLIGHT
BEGIN:STANDARD
TZOFFSETFROM:-0400
TZOFFSETTO:-0500
TZNAME:EST
DTSTART:20261101T060000
END:STANDARD
END:VTIMEZONE
BEGIN:VEVENT
DTSTART;TZID=America/New_York:20250731T150000
DTEND;TZID=America/New_York:20250731T170000
DTSTAMP:20260423T125339
CREATED:20250606T155904Z
LAST-MODIFIED:20250731T195420Z
UID:913-1753974000-1753981200@dbianycmetro.org
SUMMARY:Design-Build in Action: Project Tour of the Shirley Chisholm Recreation Center (July 31\, 2025)
DESCRIPTION:Join DBIA’s NYC Metro Chapter and the NYC Department of Design & Construction\, and Consigli Construction Co.\, Inc. for an exclusive site tour of the new Shirley Chisholm Recreation Center\, a public recreational facility redefining sustainable and inclusive community design in Central Brooklyn. Nestled within Nostrand Playground\, this high-performance building features an all-electric mechanical system\, a mass timber structure optimized for humid environments\, and a vibrant mix of athletic\, educational and cultural spaces. With a focus on achieving LEED-NC Gold certification\, the center exemplifies how public architecture can support health\, equity\, and environmental goals. \nAs one of DDC’s Design-Build Pilot Projects\, this tour provides insight into the benefits of integrated project delivery. Members will explore how the Design-Build approach enabled greater collaboration\, faster timelines\, and flexibility during ongoing design development. The tour will also examine how community-centered design strategies shaped both the building’s programming and architecture — from the wraparound green roof to active spaces that reflect neighborhood needs. This is a unique opportunity to learn from project leaders about delivering this important civic project for East Flatbush. \nRegistration closes July 18.\nRegister Now \nPlease note this event is for DBIA members only\, limited to 45 people walking the jobsite (first in\, first served). Guests must bring their own PPE. \nLocation: \nShirley Chisholm Recreation Center\n3002 Foster Ave.\nBrooklyn\, NY 11210\n(For those traveling via the subway\, catch either the 2 or 5 to Newkirk Avenue–Little Haiti Station) \nPricing (DBIA Member-Only Event):  \n\nMembers $65\nMember Owners $20\nYoung Professional Members $20\nStudent Members $20\n\nLearning Objectives: \n\nAnalyze how the Design-Build delivery method enhanced collaboration\, expedited project timelines\, and supported design flexibility during the development of the Shirley Chisholm Recreation Center.\nEvaluate sustainable building strategies—including the use of mass timber\, an all-electric mechanical system\, and green roof integration—and their role in achieving LEED-NC Gold certification.\nExamine how community engagement and equity-driven planning shaped the facility’s programming and architectural design to reflect the needs and values of the Central Brooklyn neighborhood.\nDiscuss the technical and operational challenges addressed through integrated project delivery on a high performance civic project\, and how lessons from this Design-Build pilot can inform future public infrastructure initiatives.\n\nSpeakers:\n\n\nDaphne Lasky\, DBIA\nDeputy Director\, Cultural Institutions\nPublic Buildings DDC \n  \n  \n\n\n\n\n\n\nSam Hodgkinson\, DBIA\nSenior Project Design Manager\nConsigli \n  \n\n\n  \nRegister Now\nSponsored by:
URL:https://dbianycmetro.org/event/design-build-in-action-project-tour-of-the-shirley-chisholm-recreation-center-july-31-2025/
LOCATION:Shirley Chisholm Recreation Center\, 3002 Foster Ave.\, Brooklyn\, NY\, 11210\, United States
CATEGORIES:Region Event
END:VEVENT
END:VCALENDAR