BEGIN:VCALENDAR
VERSION:2.0
PRODID:-//DBIA NYC Metro Region - ECPv6.15.20//NONSGML v1.0//EN
CALSCALE:GREGORIAN
METHOD:PUBLISH
X-ORIGINAL-URL:https://dbianycmetro.org
X-WR-CALDESC:Events for DBIA NYC Metro Region
REFRESH-INTERVAL;VALUE=DURATION:PT1H
X-Robots-Tag:noindex
X-PUBLISHED-TTL:PT1H
BEGIN:VTIMEZONE
TZID:America/New_York
BEGIN:DAYLIGHT
TZOFFSETFROM:-0500
TZOFFSETTO:-0400
TZNAME:EDT
DTSTART:20250309T070000
END:DAYLIGHT
BEGIN:STANDARD
TZOFFSETFROM:-0400
TZOFFSETTO:-0500
TZNAME:EST
DTSTART:20251102T060000
END:STANDARD
BEGIN:DAYLIGHT
TZOFFSETFROM:-0500
TZOFFSETTO:-0400
TZNAME:EDT
DTSTART:20260308T070000
END:DAYLIGHT
BEGIN:STANDARD
TZOFFSETFROM:-0400
TZOFFSETTO:-0500
TZNAME:EST
DTSTART:20261101T060000
END:STANDARD
BEGIN:DAYLIGHT
TZOFFSETFROM:-0500
TZOFFSETTO:-0400
TZNAME:EDT
DTSTART:20270314T070000
END:DAYLIGHT
BEGIN:STANDARD
TZOFFSETFROM:-0400
TZOFFSETTO:-0500
TZNAME:EST
DTSTART:20271107T060000
END:STANDARD
END:VTIMEZONE
BEGIN:VEVENT
DTSTART;TZID=America/New_York:20260429T083000
DTEND;TZID=America/New_York:20260429T123000
DTSTAMP:20260423T142854
CREATED:20260310T201156Z
LAST-MODIFIED:20260420T010546Z
UID:1644-1777451400-1777465800@dbianycmetro.org
SUMMARY:Winning Design-Build Proposals: From RFEI to Project Award
DESCRIPTION:Join the DBIA NYC Metro Region for a dynamic\, half-day workshop designed for owners\, contractors\, designers\, and project leaders navigating today’s complex design-build procurement environment. \nAs proposal demands intensify – requiring higher costs\, tighter schedules\, and deeper integration – this session offers practical insights into how successful teams compete\, collaborate\, and win. \n________________________________________________________________________________________________ \nEVENT DETAILS\nDate: Wednesday\, April 29\, 2026  \nTime: 8:30 am – 12:30 pm (includes a continental breakfast & lunch)  \nLocation: Club 101 – New York\, NY \nCredits: Earn DBIA CEH Credits  \n  \nWHY ATTEND?\nExplore the full lifecycle of the design-build proposal process\, from early engagement (RFEI/LOI) through RFQ\, RFP\, interviews\, and post-award transition. Participants will gain: \nStrategic Insights: Learn how to align design\, construction\, and estimating teams under deadline pressure. \nOwner Perspectives: Understand how shortlisting decisions are made and what owners truly seek at each phase. \nHands-on Experience: Interactive breakout sessions to review sample responses\, develop win themes\, and simulate BAFO negotiations. \nDigital Tools: Best practices for using platforms like Microsoft Teams and SharePoint to manage schedules and content development. \n________________________________________________________________________________________________ \nFeatured Industry Leaders\nHear from a moderated panel of experienced professionals providing candid discussion on proposal best practices and lessons learned: \nAllison Agliardo\, Senior Director of Commercial Management at Amtrak  \nWith more than 25 years of experience delivering complex transportation infrastructure projects. Her work focuses on procurement strategy\, contract structuring\, and risk allocation for large-scale public projects. \nAllison has played a key role in advancing major initiatives including the Hudson Tunnel Program\, working alongside agencies such as the Gateway Development Commission and regional stakeholders. Previously\, Ms. Agliardo held senior roles at Arup\, and the Port Authority of New York & New Jersey\, where she advised on project delivery strategy\, managed major design‑build procurements\, and supported governance and risk programs for large portfolios. \nShe offers practical\, owner-side perspective on the procurement process. Her work focuses on aligning project objectives with market realities to drive successful project delivery. \nAllison holds a BS in Civil Engineering\, a BA in Geology and is a resident of New York City. \n  \nMichael Mifsud\, Vice President of Operations\, Skanska USA Civil Northeast  \nMichael Mifsud is Vice President of Operations for Skanska USA Civil Northeast. He is a\nlicensed PE\, and Certified DBIA Professional with BS\, and MS Engineering Degrees from\nColumbia University. \nMichael and has 27 years of experience managing Design-Build projects from teaming and\nproposal stage through design and construction stages. He has led 14 Design-Build\nprojects through the full project lifecycle for East coast clients including Amtrak\, WMATA\,\nMBTA\, PATH\, and MTA Agencies including Metro North\, Long Island Railroad\, NYCT\, and\nMTA C&D. \nOn these and many other projects\, Michael has led collaboration of project teams during\npre-award stage to optimize proposals and the team’s approach to meeting client goals\nand requirements \n  \nSteve Kramer\, PE\, FASCE\, Senior Vice President\, COWI North America\, Inc.  \nSteve has over 40 years of experience in engineering firms serving the infrastructure industry. Steve led the design\, management and construction of over 75 underground projects around the globe with construction values up to $2 billion using conventional and alternative delivery methods. \nA frequent speaker on the implementation of alternative delivery and active participant at industry conferences and in technical societies\, Kramer has published more than 90 technical and management papers. Kramer served as the 2023 President of the ASCE Utility Engineering and Surveying Institute (UESI). \n  \n  \n  \nPaul Monte\, Chair\, Peckar & Abramson  \nPaul Monte is Chair of Peckar & Abramson’s Infrastructure practice. He regularly advises\nconstructors on transactions and disputes on major public and private projects\, including\ndesign-build and P3 mega-projects. Whether building subways\, highways\, bridges\,\nrailways\, water treatment plants\, or energy projects\, Paul has been called on to help\nmanage\, pursue\, and deliver projects timely and profitably. \n  \n  \n  \nModerated By: Craig S. Covil\, DBIA\, PE\, FASCE C2 Consulting LLC \nCraig Covil is a senior construction advisor with over 38 years of global experience delivering major infrastructure. He has led multidisciplinary teams on landmark projects like New York’s Fulton Street Station and Second Avenue Subway. \nFormerly a Managing Director at ASTM North America and Principal at Arup\, Craig specializes in Design-Build and P3 initiatives spanning tunnels\, aviation\, and transit. A Fellow of ASCE\, ICE\, HKIE\, and IEAust\, he currently serves as President of the DBIA New York City Region. Beyond engineering\, he is a VC advisor and chairs the charity American Friends of Cecily’s Fund. \nREGISTER NOW\n________________________________________________________________________________________________ \nMANY THANKS TO OUR SPONSORS\nExecutive Sponsors\n \n \n \n  \nEvent Sponsors\n \n\n___________________________________________________________\nBECOME A SPONSOR\nPosition your firm at the forefront of the design-build industry by sponsoring this high impact\, half day workshop. As procurement demands intensify requiring higher costs\, tighter schedules\, and deeper integration this session provides a rare opportunity to align your brand with excellence in project delivery. \nOur program features a moderated panel of legendary industry figures and public agency leaders who will provide candid discussions on the entire procurement lifecycle. From initial qualifications to the final award\, these experts will share the strategies that separate winning proposals from the rest of the pack. \n________________________________________________________________________________________________ \nCHOOSE FROM\nExecutive Sponsor | $3\,000 | 3 Available\nComplimentary Entry: Includes four (4) individual registrations for your firm.  \nSolo Slide Loop: A dedicated\, full-screen slide featuring your logo and a custom “Hosted By” message displayed throughout the 1-hour cocktail reception. Keynote Podium Recognition: An individual\, distinguished “Thank You” by name during both the opening and closing remarks.  \nPremier Branding: Top-tier logo placement on all digital event invitations\, social media promotions\, and the regional website. \nShowcase Table: As a premier sponsor\, you’ll receive a Connection Point in the main dining room\, giving you a physical ‘home base’ to engage with our audience and showcase your goods and services. \n  \nEvent Sponsor | $2\,000 | 5 Available\nComplimentary Entry: Includes two (2) individual registrations for your firm.  \nSolo Slide Loop: A dedicated\, full-screen slide featuring your logo and a custom “Hosted By” message displayed throughout the 1-hour cocktail reception. Keynote Podium Recognition: An individual\, distinguished “Thank You” by name during both the opening and closing remarks.  \nPremier Branding: Top-tier logo placement on all digital event invitations\, social media promotions\, and the regional website. \nShowcase Table: As an Event Sponsor\, you’ll receive a Connection Point in the main dining room\, giving you a physical ‘home base’ to engage with our audience and showcase your goods and services. \n  \nLunch Sponsor | $1\,500 | 1 Available\nComplimentary Entry: Includes two (1) individual registrations for your firm.  \nSolo Slide Loop: A dedicated\, full-screen slide featuring your logo and a custom “Hosted By” message displayed throughout the 1-hour cocktail reception. Keynote Podium Recognition: An individual\, distinguished “Thank You” by name during both the opening and closing remarks.  \nPremier Branding: Top-tier logo placement on all digital event invitations\, social media promotions\, and the regional website. Signage on buffet breakfast table. \n  \nBreakfast Sponsor | $1\,000 | 1 Available\nSolo Slide Loop: A dedicated\, full-screen slide featuring your logo and a custom “Hosted By” message displayed throughout the 1-hour cocktail reception. Keynote Podium Recognition: An individual\, distinguished “Thank You” by name during both the opening and closing remarks.  \nPremier Branding: Top-tier logo placement on all digital event invitations\, social media promotions\, and the regional website. Signage on buffet breakfast table. \nCLICK HERE TO SPONSOR THIS EVENT\n___________________________________________________________________________\nREGISTER NOW
URL:https://dbianycmetro.org/event/save-the-date-winning-design-build-proposals-from-rfei-to-project-award/
LOCATION:Club 101\, 101 Park Ave.\, New York\, 10178\, United States
CATEGORIES:Region Event
ATTACH;FMTTYPE=image/png:https://dbianycmetro.org/wp-content/uploads/2026/03/Website-Version-DBIA-4.29.26-Flyer.png
END:VEVENT
BEGIN:VEVENT
DTSTART;TZID=America/New_York:20260430T173000
DTEND;TZID=America/New_York:20260430T193000
DTSTAMP:20260423T142854
CREATED:20260413T214356Z
LAST-MODIFIED:20260421T160718Z
UID:1804-1777570200-1777577400@dbianycmetro.org
SUMMARY:DBIA NextGen/Young Professionals Event - Design-Build 101
DESCRIPTION:CLICK HERE TO REGISTER\nJoin us on April 30th\, 2026\, from 5:30 PM – 07:30 PM at the New York Institute of Technology – 1855 Broadway (at 61st Street) New York\, NY 10023. \nDesign-Build 101 is an introductory event created to give students a clear and practical understanding of one of the most important and increasingly used project delivery methods in the construction industry. As projects continue to grow in complexity\, speed\, and scale\, understanding how Design-Build works has become essential for future professionals entering the built environment. \nThis session will begin with welcome remarks and introductions\, followed by an overview of project delivery methods to help students understand where Design-Build fits within the broader industry landscape. The program will then explore why Design-Build has become such a valuable delivery approach\, highlighting its key benefits\, including collaboration\, efficiency\, innovation\, and stronger alignment between design and construction. \nStudents will also gain insight into Design-Build from multiple perspectives. The owner’s perspective will examine why owners choose this method and what they seek in terms of value\, risk management\, schedule\, and project outcomes. The design-builder’s perspective will provide a closer look at how integrated teams work together to deliver projects more effectively. The session will also introduce DBIA Best Practices and explain how these principles support successful project delivery. \nTo connect theory with practice\, the event will feature real project examples that demonstrate how Design-Build is applied in the field and how teams navigate real-world challenges. The program will conclude with a discussion on career pathways\, key skills\, and professional resources available to students who are interested in pursuing opportunities in construction\, infrastructure\, project management\, and integrated project delivery. \nDesign-Build 101 is intended to be both educational and engaging\, offering students a strong foundation in Design-Build while exposing them to its growing relevance across the industry. The event will close with a Q&A session\, giving attendees the opportunity to ask questions and deepen their understanding of the topics presented. \nFour Learning Objectives: \n1. Understand the fundamentals of project delivery methods and identify how Design-Build differs from other delivery approaches. \n2. Recognize the key benefits and industry value of Design-Build\, including collaboration\, efficiency\, and integration between design and construction. \n3. Gain insight into how Design-Build is viewed and implemented from both the owner’s and design-builder’s perspectives. \n4. Explore career pathways\, skills\, and professional resources that can help students pursue opportunities in Design-Build and the broader construction industry. \n*Earn Continuing Education credit. \nLight fare and refreshments will be served. \nMany  thanks to our venue host\, \n \nMany thanks to our Food & Beverage sponsor\,\n \nA DBE/MBE/SBE Technology Solutions Company \nCLICK HERE TO LEARN MORE ABOUT VASQUEZ INTERGRATORS \n  \nMeet Our Guest Speakers\nMackenzie Baert\, PMP\, DBIA \nSenior Project Manager \nArup US\, Inc \nMackenzie Baert is a Senior Project Manager in the Program and Project Management team in Arup’s New York Office. She has a breadth of experience in a variety of industries including infrastructure\, healthcare\, natural resources\, and real estate. Mackenzie’s professional experiences have driven her career abroad having worked across Europe\, North America and Latin America. Her work at Arup is centered around the delivery of complex projects and programs with multi-disciplinary teams\, engaged from the outset at concept planning stages through to construction. In her current role\, she focuses on improving capabilities for and supporting alternative delivery projects. Mackenzie is an active member of DBIA NextGen Committee. \n  \n Jung Hyun Lee\, PHD\, assoc. DBIA \nAssistant Professor \nSUNY Farmingdale State College \nJung Hyun Lee is an Assistant Professor in the Department of Architecture and Construction Management at SUNY Farmingdale State College. Her work focuses on project delivery methods\, construction risk management\, and construction contracts. She has experience in design-build through research and industry collaboration\, including projects supported by the Georgia Department of Transportation. She is an Associate DBIA and an active member of the DBIA NextGen Committee \, and DBIA National Student/Academia Outreach and Engagement Committee. \n  \n \nSheriff Naggar\, Project Manager & Claims Consultant \nHill International\, Inc. \nSheriff Naggar is a Project Manager & Claims Consultant with over 10 years of experience delivering mega Design-Build infrastructure programs\, including projects with an aggregate portfolio exceeding $35B. He has supported landmark initiatives such as the Hudson Tunnel Project\, Borough-Based Jail Program\, and Penn Station Expansion\, specializing in project management\, risk management\, dispute resolution\, cost control\, scheduling\, and contract administration. Sheriff serves as Chair of DBIA NextGen and holds a Master of Science in Construction Management from Columbia University and a Program in Finance and Behavioral Economics from Harvard Business School. \n  \n  \nCLICK HERE TO REGISTER
URL:https://dbianycmetro.org/event/dbia-nextgen-young-professionals-event-design-build-101/
LOCATION:NYIT\, 1855 Broadway (at 61st Street)\, New York\, NY\, 10023
CATEGORIES:Region Event
ATTACH;FMTTYPE=image/png:https://dbianycmetro.org/wp-content/uploads/2026/04/April-30-2026-DBIA-NextGenYoung-Professionals-Event--scaled.png
END:VEVENT
BEGIN:VEVENT
DTSTART;TZID=America/New_York:20260514T160000
DTEND;TZID=America/New_York:20260514T183000
DTSTAMP:20260423T142854
CREATED:20260409T203056Z
LAST-MODIFIED:20260413T141242Z
UID:1798-1778774400-1778783400@dbianycmetro.org
SUMMARY:Lump Sum Budgeting for Design-Build: The Good\, the Bad\, and the Ugly
DESCRIPTION:This event will be a moderated discussion panel focused on exploring the next generation of lump sum design-build delivery by uniting experts in estimating\, design\, project leadership\, and advanced technology. This panel discussion will examine how teams structure pricing responsibilities\, maintain budgets throughout design\, leverage collaborative tactics\, and apply new AI-driven tools — while forecasting the innovations that will shape the future of design-build practice in New York City. The panel discussion will be followed by 45 minutes to an hour for networking. \nThis event will be a moderated discussion panel focused on exploring the next generation of lump sum design-build delivery by uniting experts in estimating\, design\, project leadership\, and advanced technology. This panel discussion will examine how teams structure pricing responsibilities\, maintain budgets throughout design\, leverage collaborative tactics\, and apply new AI-driven tools — while forecasting the innovations that will shape the future of design-build practice in New York City. The panel discussion will be followed by 45 minutes to an hour for networking. \nAGENDA \n4:00pm – 4:30pm: Arrive\, Check-in\, and Seating\n4:30pm – 5:45pm: Panel Discussion\n5:45pm – 6:30pm: Networking / Social \n  \nELIGIBLE FOR EDUCATION CREDITS \n  \nMEET THE SPEAKERS \nModerator – Cesar Pereira\, Partner – Sheppard\, Mullin\, Richter & Hampton LLP \nDesign-Builders\nMichael Trotta\, Vice President – Estimating at Posillico Civil\, Inc. \nRoderick Fiske\, Director Construction – BOND Civil & Utility Construction\, Inc. \nLead Designer \nDavid DeLuca\, PE\, DBIA – Director and Principal at Hardesty & Hanover \nOwner / Client\nSubhash Tuladha\, Associate Commissioner of DDC’s Project Controls Division \nTechnology Expert\nRawle Sawh\, Director of Operations Technology at Gilbane Building Company \n  \nREGISTER HERE
URL:https://dbianycmetro.org/event/lump-sum-budgeting-for-design-build-the-good-the-bad-and-the-augli/
LOCATION:30 Rockefeller Plaza\, Suite 2400\, New York\, NY 10112\, 30 Rockefeller Plaza\, Suite 2400\, New York\, NY 10112\, New York\, NY\, 10112\, United States
CATEGORIES:Region Event
ORGANIZER;CN="Edward Sheeran":MAILTO:esheeran@gilbaneco.com
END:VEVENT
BEGIN:VEVENT
DTSTART;VALUE=DATE:20260608
DTEND;VALUE=DATE:20260609
DTSTAMP:20260423T142854
CREATED:20251030T201702Z
LAST-MODIFIED:20260420T002241Z
UID:1342-1780876800-1780963199@dbianycmetro.org
SUMMARY:1st Annual NYC Metro Region Golf Tournament
DESCRIPTION:Join the DBIA NYC Metro Region for our inaugural Golf Tournament at the historic St. Andrews Golf Club—America’s oldest golf club. Enjoy a day of friendly competition\, networking\, and camaraderie with design-build industry peers while supporting the continued growth of design-build excellence in our region. \nREGISTER TO GOLF NOW!\nRegister as an Individual Golfer\nRegister as a Foursome (and save $500)\nLimited golfer spots available. Register today to reserve your spot!\n_____________________________________________________________________________________________ \nCLICK HERE TO BECOME A SPONSOR\n2026 DBIA NYC METRO REGION GOLF TOURNAMENT \nMonday\, June 8\, 2026 \nThe St. Andrews Golf Club \nRealizing Collaboration Driven Success through Design Build Done Right®   \nThe DBIA NYC Metro Region is thrilled to invite you to our 2026 Annual Golf Tournament and Networking Event. As a region dedicated to serving the design-build community across the Five Boroughs\, Westchester\, Long Island\, and Northern New Jersey\, we are proud to host this inaugural flagship tradition at the historic Saint Andrew’s Golf Club—the oldest golf club in the United States.  \nJoin leading practitioners\, public and private owners\, and industry decision-makers for a day of strategic relationship building and brand exposure celebrating the collaborative leadership transforming the New York infrastructure landscape.  \nEvent Snapshot \n\nLocation: The Saint Andrew’s Golf Club\, Hastings on Hudson\, NY \n\n\nFormat: 18-Hole Scramble and Networking Reception \n\n\nAgenda: 10:30 AM Registration/Brunch | 12:00 PM Shotgun Start | 5:00 PM Reception | 6:00 PM Dinner & Awards \n\n  \nPARTICIPATION AND SPONSORSHIP OPPORTUNITIES \nAll sponsors receive logo placement on printed materials\, event signage\, and the DBIA NYC Metro website\, plus the opportunity to include branded swag in gift bags.  \nPremier Corporate Tiers \n\nTitle Sponsor (1 Available) | $10\,000 Premium placement: “Golf Tournament Brought to You by [Your Company].” Includes two foursomes (8 players) with carts\, check-in table for 2 staff (includes lunch/refreshments)\, staff golf cart\, speaking opportunity\, and social media recognition. \n\n\nLunch Sponsor (1 Available) | $5\,000 Includes one foursome (4 players) with carts. Signage displaying “Lunch brought to you by [Your Company]” at the lunch location. \n\n\nDinner Sponsor (1 Available) | $5\,000 Includes one foursome (4 players) with carts. Signage displaying “Dinner brought to you by [Your Company]” at the banquet. \n\n\nBeverage Sponsor (1 Available) | $4\,000 Includes 2 golfer spots and company logo on signage at the bar. \n\n\nSupporting Sponsor (6 Available) | $2\,500 Includes 1 golfer spot and banquet attendance for 2 representatives. \n\n\nHole / Tee Sponsor (15 Available) | $1\,000 Company logo on signage at a designated hole. (Does not include team). \n\n  \nSpecialty & Contest Sponsorships (No Team Included) \n\nPhotography Sponsor (1 Available) | $3\,000 Logo on all post-event photos. Includes check-in table for 2 staff (includes lunch/refreshments). \n\n\nPin Flag Sponsor (1 Available) | $3\,000 Company logo on the pin flag at every hole. \n\n\nGolf Cart Sponsor (1 Available) | $3\,000 Company logo displayed on the entire fleet of golfer carts. \n\n\nBeverage Cart Sponsor (1 Available) | $2\,500 Logo displayed on the Beverage Cart driving around the range. \n\n\nHole-in-One Sponsor (1 Available) | $1\,500 Logo at the designated HIO hole. Prize provided by Hole-in-One USA. \n\n\nGolf Ball Sponsor (1 Available) | $1\,000 Logo at check-in; attendance for 1 rep to distribute branded ball sleeves (provided by sponsor). \n\n\nContest Sponsors (Long Drive\, Closest to the Pin\, Mega Putt) | $1\,000 Each Signage at the contest hole/green. Sponsor provides the contest prize(s). \n\n\nGift Bag Sponsor (1 Available) | $0 (In-Kind) Check-in table for 2 staff to distribute a welcome gift of your choice (provided by sponsor) to all players. \n\n  \nIMPORTANT COURSE RULES & ETIQUETTE \n\nDigital Etiquette: The Club strictly prohibits cellular telephones in the Clubhouse\, bar\, dining areas\, and on the course. \n\n\nDress Code: Collared shirts and Bermuda-length shorts required. Denim is not permitted. \n\n\nGratuity: Saint Andrew’s is a non-tipping facility. \n\n  \nREGISTER TODAY: Questions? Contact Executive Director Alison La Ferlita at 917-495-5954.  \n\nOr scan here:
URL:https://dbianycmetro.org/event/1st-annual-nyc-metro-region-golf-tournament/
LOCATION:St. Andrews Golf Club\, 10 Old Jackson Ave #3203\, Hastings-On-Hudson\, NY\, 10706\, United States
CATEGORIES:Region Event
ATTACH;FMTTYPE=image/png:https://dbianycmetro.org/wp-content/uploads/2025/10/DBIA-Golf-Flyer-3.png
END:VEVENT
BEGIN:VEVENT
DTSTART;VALUE=DATE:20260929
DTEND;VALUE=DATE:20261001
DTSTAMP:20260423T142854
CREATED:20251030T202420Z
LAST-MODIFIED:20251031T142158Z
UID:1347-1790640000-1790812799@dbianycmetro.org
SUMMARY:1st Annual NYC Metro Region Conference
DESCRIPTION:Mark your calendars for DBIA NYC Metro Region’s premier event of the year! This two-day conference will bring together design-build professionals\, owners\, and industry leaders for thought-provoking keynotes\, dynamic breakout sessions\, and unparalleled networking opportunities—all set against the inspiring backdrop of Lower Manhattan. \nStay tuned for program details and registration information!
URL:https://dbianycmetro.org/event/1st-annual-nyc-metro-region-conference/
LOCATION:Museum of Jewish Heritage\, 36 Battery Pl\, New York\, NY\, 10280\, United States
CATEGORIES:Region Event
END:VEVENT
END:VCALENDAR